BEGIN:VCALENDAR
VERSION:2.0
PRODID:-//Aspiring Youth Academy - ECPv6.15.20//NONSGML v1.0//EN
CALSCALE:GREGORIAN
METHOD:PUBLISH
X-ORIGINAL-URL:https://aspiringyouth.org
X-WR-CALDESC:Events for Aspiring Youth Academy
REFRESH-INTERVAL;VALUE=DURATION:PT1H
X-Robots-Tag:noindex
X-PUBLISHED-TTL:PT1H
BEGIN:VTIMEZONE
TZID:America/Phoenix
BEGIN:STANDARD
TZOFFSETFROM:-0700
TZOFFSETTO:-0700
TZNAME:MST
DTSTART:20240101T000000
END:STANDARD
END:VTIMEZONE
BEGIN:VEVENT
DTSTART;VALUE=DATE:20250425
DTEND;VALUE=DATE:20250505
DTSTAMP:20260423T004346
CREATED:20240828T181837Z
LAST-MODIFIED:20250425T234024Z
UID:9189-1745539200-1746403199@aspiringyouth.org
SUMMARY:AYA Online Auction 2025
DESCRIPTION:🌴 AYA Online Auction – Opens April 25th!\nSupport AYA while bidding on incredible prizes like…\n\n🌊 Luxury 10-Night Caribbean Getaway\nStay at Hammock Cove Resort & Spa\, Antigua’s newest adults-only\, all-inclusive paradise!\n🏝️ Private villas with plunge pools\n🍽️ 24-hour gourmet dining\n🍹 Personal cocktail lounges\n🌄 Bonus stay at Los Establos Boutique Resort\, Panama\nPLUS:\n🎁 Restaurant gift cards\n🏌️ Golf outings\n👨‍👩‍👧 Family adventure packages\n… and much more!\n\nAll proceeds directly support our programs that empower Title 1 teens through entrepreneurship\, financial education\, and leadership training. \nCLICK HERE TO START BIDDING.\nBidding Ends May 4th. \n 
URL:https://aspiringyouth.org/event/aya-online-auction-2025/
CATEGORIES:Community Event,Family Events,Fundraising Event
ATTACH;FMTTYPE=image/jpeg:https://aspiringyouth.org/wp-content/uploads/2024/08/Onlne-Auction-post.jpg
END:VEVENT
BEGIN:VEVENT
DTSTART;TZID=America/Phoenix:20250426T100000
DTEND;TZID=America/Phoenix:20250426T130000
DTSTAMP:20260423T004346
CREATED:20240924T224016Z
LAST-MODIFIED:20250421T222745Z
UID:962-1745661600-1745672400@aspiringyouth.org
SUMMARY:Finance Education Festival
DESCRIPTION:Join Us on April 26th at 10 AM at ASU Skysong for Financial Festival for all teens and their families.\nUnlock the secrets of smart money management at our Financial Festival on April 26th from 10 AM to 1 PM at ASU Skysong in Scottsdale! Designed for teens and their families\, this dynamic event transforms financial education into an engaging\, hands-on experience. Join our expert panel for invaluable insights\, participate in fast-paced speed dating sessions with banking and financial professionals\, and explore interactive booths where you’ll learn budgeting\, investing\, and much more! With exciting raffle prizes and a vibrant atmosphere\, our Financial Festival is the perfect opportunity to kickstart your financial future in a fun and inspiring way. All are welcome – Don’t miss this informative community event. \nSponsorship opportunities are available for this event.\nContact Bridget Costello\, Executive Director – bridget@aspiringyouth.org or 480-217-1806. \nDownload Our Sponsorship Options \n  \n\nIgniting Dreams Sponsorship\n \n\nElevate Sponsor
URL:https://aspiringyouth.org/event/finance-education-festival/
LOCATION:Skysong\, 1475 N. Scottsdale Rd\, Ste #151 (1951)\, Scottsdale\, AZ\, 85257\, United States
CATEGORIES:Community Event,Family Events,Financial Education,FREE EVENT,Teen Events
ATTACH;FMTTYPE=image/jpeg:https://aspiringyouth.org/wp-content/uploads/2024/09/AYA-FinancialEducationFestival.jpg
ORGANIZER;CN="Aspiring Youth":MAILTO:info@aspiringyouth.org
END:VEVENT
END:VCALENDAR