BEGIN:VCALENDAR
VERSION:2.0
PRODID:-//Aspiring Youth Academy - ECPv6.15.20//NONSGML v1.0//EN
CALSCALE:GREGORIAN
METHOD:PUBLISH
X-WR-CALNAME:Aspiring Youth Academy
X-ORIGINAL-URL:https://aspiringyouth.org
X-WR-CALDESC:Events for Aspiring Youth Academy
REFRESH-INTERVAL;VALUE=DURATION:PT1H
X-Robots-Tag:noindex
X-PUBLISHED-TTL:PT1H
BEGIN:VTIMEZONE
TZID:America/Phoenix
BEGIN:STANDARD
TZOFFSETFROM:-0700
TZOFFSETTO:-0700
TZNAME:MST
DTSTART:20240101T000000
END:STANDARD
END:VTIMEZONE
BEGIN:VEVENT
DTSTART;TZID=America/Phoenix:20250709T100000
DTEND;TZID=America/Phoenix:20250709T110000
DTSTAMP:20260422T194700
CREATED:20250519T224844Z
LAST-MODIFIED:20250610T141113Z
UID:10910-1752055200-1752058800@aspiringyouth.org
SUMMARY:Money Smart Summer Series: Youth Edition: Budgeting and Saving
DESCRIPTION:This Event is Full! Please contact us if you are interested in future events.\nA Financial Education Cohort for Ages 13–18\nJuly 9 Session: Budgeting and Saving\nCreate a personalized spending plan that helps you reach your goals \n  \n\nMoney Skills They Don’t Teach in School\nReal-life financial confidence starts here.\nAspiring Youth Academy and Enterprise Bank & Trust presents a dynamic and interactive learning experience designed to equip high school and college students with the tools they need to make smart money moves. \nPowered by Enterprise Bank & Trust\nModeled after the FDIC’s Money Smart for Young Adults \nWhat You’ll Learn\n\nJune 10: Your Money Values and Influences\n\nUnderstand how internal values\, goals\, and outside influences shape financial decisions\n\n\nJune 25: Banking Basics\n\nLearn how to open accounts\, avoid fees\, and manage your money wisely\n\n\nJuly 9: Budgeting and Saving\n\nCreate a personalized spending plan that helps you reach your goals\n\n\nJuly 16: Understanding Credit\n\nGet smart about credit cards\, credit scores\, and how to build credit responsibly\n\n\nJuly 24 & 25: Entrepreneurship and Smart Spending\n\nExplore how to turn your ideas into income and make smart spending choices\n\n\n\nProgram Facilitators\n\nUriah Cachora\nAssistant Vice President\, Community Development – NM & AZ\nEnterprise Bank & Trust\nDiego Luna\nSenior Loan Coordinator\nEnterprise Bank & Trust\n\nCohort Dates\n\nVirtual Sessions | 10:00 – 11:00 AM (Phoenix Time):\n\nJune 10\nJune 25\nJuly 9\nJuly 16\n\n\nIn-Person Sessions | 10:00 – 11:00 AM:\n\nJuly 24 & 25\nLocation:\n20/30 Club House\n917 E. Sheridan St.\nPhoenix\, AZ 85006\n\n\n\nWhy Join?\n\nLed by banking professionals from Enterprise Bank & Trust\nBuild real-world financial skills in a fun and supportive environment\nEarn a $50 gift card upon completing the program—an extra boost to help you kick-start your Money Smart goals!\nGet a Certificate of Completion\nCompletely FREE for youth ages 13–18\n\nWhat Past Participants Are Saying\n“I feel much more confident managing my money and reaching my financial goals after going through this program.” \n“It was eye-opening to see how little changes\, like picking a more affordable cell phone plan\, can really add up.” \n  \n\nQuestions? Contact:\n\nAshley Woodburn\, Program Manager\nashley@aspiringyouth.org\n602-399-9687
URL:https://aspiringyouth.org/event/money-smart-summer-series-youth-edition-budgeting-and-saving/
LOCATION:Virtual Event
CATEGORIES:Entrepreneurship Education,Financial Education,FREE EVENT,Teen Events
ATTACH;FMTTYPE=image/jpeg:https://aspiringyouth.org/wp-content/uploads/2025/05/MoneySmart-SummerSeries-event-1.jpg
ORGANIZER;CN="Aspiring Youth":MAILTO:info@aspiringyouth.org
END:VEVENT
BEGIN:VEVENT
DTSTART;TZID=America/Phoenix:20250716T100000
DTEND;TZID=America/Phoenix:20250716T110000
DTSTAMP:20260422T194700
CREATED:20250519T225101Z
LAST-MODIFIED:20250610T141056Z
UID:10913-1752660000-1752663600@aspiringyouth.org
SUMMARY:Money Smart Summer Series: Youth Edition: Understanding Credit
DESCRIPTION:This Event is Full! Please contact us if you are interested in future events.\nA Financial Education Cohort for Ages 13–18\nJuly 16 Session: Understanding Credit\nGet smart about credit cards\, credit scores\, and how to build credit responsibly \n  \n\nMoney Skills They Don’t Teach in School\nReal-life financial confidence starts here.\nAspiring Youth Academy and Enterprise Bank & Trust presents a dynamic and interactive learning experience designed to equip high school and college students with the tools they need to make smart money moves. \nPowered by Enterprise Bank & Trust\nModeled after the FDIC’s Money Smart for Young Adults \nWhat You’ll Learn\n\nJune 10: Your Money Values and Influences\n\nUnderstand how internal values\, goals\, and outside influences shape financial decisions\n\n\nJune 25: Banking Basics\n\nLearn how to open accounts\, avoid fees\, and manage your money wisely\n\n\nJuly 9: Budgeting and Saving\n\nCreate a personalized spending plan that helps you reach your goals\n\n\nJuly 16: Understanding Credit\n\nGet smart about credit cards\, credit scores\, and how to build credit responsibly\n\n\nJuly 24 & 25: Entrepreneurship and Smart Spending\n\nExplore how to turn your ideas into income and make smart spending choices\n\n\n\nProgram Facilitators\n\nUriah Cachora\nAssistant Vice President\, Community Development – NM & AZ\nEnterprise Bank & Trust\nDiego Luna\nSenior Loan Coordinator\nEnterprise Bank & Trust\n\nCohort Dates\n\nVirtual Sessions | 10:00 – 11:00 AM (Phoenix Time):\n\nJune 10\nJune 25\nJuly 9\nJuly 16\n\n\nIn-Person Sessions | 10:00 – 11:00 AM:\n\nJuly 24 & 25\nLocation:\n20/30 Club House\n917 E. Sheridan St.\nPhoenix\, AZ 85006\n\n\n\nWhy Join?\n\nLed by banking professionals from Enterprise Bank & Trust\nBuild real-world financial skills in a fun and supportive environment\nEarn a $50 gift card upon completing the program—an extra boost to help you kick-start your Money Smart goals!\nGet a Certificate of Completion\nCompletely FREE for youth ages 13–18\n\nWhat Past Participants Are Saying\n“I feel much more confident managing my money and reaching my financial goals after going through this program.” \n“It was eye-opening to see how little changes\, like picking a more affordable cell phone plan\, can really add up.” \n\nQuestions? Contact:\n\nAshley Woodburn\, Program Manager\nashley@aspiringyouth.org\n602-399-9687
URL:https://aspiringyouth.org/event/money-smart-summer-series-youth-edition-understanding-credit/
LOCATION:Virtual Event
CATEGORIES:Entrepreneurship Education,Financial Education,FREE EVENT,Teen Events
ATTACH;FMTTYPE=image/jpeg:https://aspiringyouth.org/wp-content/uploads/2025/05/MoneySmart-SummerSeries-event-1.jpg
ORGANIZER;CN="Aspiring Youth":MAILTO:info@aspiringyouth.org
END:VEVENT
BEGIN:VEVENT
DTSTART;TZID=America/Phoenix:20250725T100000
DTEND;TZID=America/Phoenix:20250725T110000
DTSTAMP:20260422T194700
CREATED:20250519T225606Z
LAST-MODIFIED:20250610T141007Z
UID:10918-1753437600-1753441200@aspiringyouth.org
SUMMARY:Money Smart Summer Series: Entrepreneurship and Smart Spending 2
DESCRIPTION:This Event is Full! Please contact us if you are interested in future events.\nA Financial Education Cohort for Ages 13–18\nJuly 25 Session: Entrepreneurship and Smart Spending Part 2\nExplore how to turn your ideas into income and make smart spending choices \n  \n\nMoney Skills They Don’t Teach in School\nReal-life financial confidence starts here.\nAspiring Youth Academy and Enterprise Bank & Trust presents a dynamic and interactive learning experience designed to equip high school and college students with the tools they need to make smart money moves. \nPowered by Enterprise Bank & Trust\nModeled after the FDIC’s Money Smart for Young Adults \nWhat You’ll Learn\n\nJune 10: Your Money Values and Influences\n\nUnderstand how internal values\, goals\, and outside influences shape financial decisions\n\n\nJune 25: Banking Basics\n\nLearn how to open accounts\, avoid fees\, and manage your money wisely\n\n\nJuly 9: Budgeting and Saving\n\nCreate a personalized spending plan that helps you reach your goals\n\n\nJuly 16: Understanding Credit\n\nGet smart about credit cards\, credit scores\, and how to build credit responsibly\n\n\nJuly 24 & 25: Entrepreneurship and Smart Spending\n\nExplore how to turn your ideas into income and make smart spending choices\n\n\n\nProgram Facilitators\n\nUriah Cachora\nAssistant Vice President\, Community Development – NM & AZ\nEnterprise Bank & Trust\nDiego Luna\nSenior Loan Coordinator\nEnterprise Bank & Trust\n\nCohort Dates\n\nVirtual Sessions | 10:00 – 11:00 AM (Phoenix Time):\n\nJune 10\nJune 25\nJuly 9\nJuly 16\n\n\nIn-Person Sessions | 10:00 – 11:00 AM:\n\nJuly 24 & 25\nLocation:\n20/30 Club House\n917 E. Sheridan St.\nPhoenix\, AZ 85006\n\n\n\nWhy Join?\n\nLed by banking professionals from Enterprise Bank & Trust\nBuild real-world financial skills in a fun and supportive environment\nEarn a $50 gift card upon completing the program—an extra boost to help you kick-start your Money Smart goals!\nGet a Certificate of Completion\nCompletely FREE for youth ages 13–18\n\nWhat Past Participants Are Saying\n“I feel much more confident managing my money and reaching my financial goals after going through this program.” \n“It was eye-opening to see how little changes\, like picking a more affordable cell phone plan\, can really add up.” \n  \n\nQuestions? Contact:\n\nAshley Woodburn\, Program Manager\nashley@aspiringyouth.org\n602-399-9687
URL:https://aspiringyouth.org/event/money-smart-summer-series-entrepreneurship-and-smart-spending-2/
LOCATION:20/30 Club House\, 917 E. Sheridan St.\, Phoenix\, AZ\, 85006\, United States
CATEGORIES:Entrepreneurship Education,Financial Education,FREE EVENT,Teen Events
ATTACH;FMTTYPE=image/jpeg:https://aspiringyouth.org/wp-content/uploads/2025/05/MoneySmart-SummerSeries-event-1.jpg
ORGANIZER;CN="Aspiring Youth":MAILTO:info@aspiringyouth.org
END:VEVENT
BEGIN:VEVENT
DTSTART;TZID=America/Phoenix:20250726T130000
DTEND;TZID=America/Phoenix:20250726T150000
DTSTAMP:20260422T194700
CREATED:20250512T155849Z
LAST-MODIFIED:20250618T190214Z
UID:10876-1753534800-1753542000@aspiringyouth.org
SUMMARY:FREE Shirt Printing Workshop with There Space
DESCRIPTION:There Space is Arizona’s only membership-based screen print studio. Join us for this special event where you’ll: learn the logistics of screen printing\, create a design\, and print your creation on a t-shirt! You’ll have guidance from our screen printing teachers and the opportunity to learn the business side of things from our owners. \n\n\n\nClass Breakdown:\n\n\n\n\n1–2 PM: Design and artwork – software\, paper\, sizing/file types\n\n\n\n2–2:30 PM: Screen prep – how screens work\, ink types\, sourcing shirts\n\n\n\n2:30–3 PM: Q&A session with instructors and owners\n\n\n\n\nPart 2: August 16 – 12pm-3pm\n\n\n\nThe same group of kids will return for a second session to print their final shirt designs. The date/time and proposal for that follow-up session will be confirmed once we have participant numbers\, final designs\, and shirt quantities. \nCLICK HERE TO REGISTER TODAY!\n\n\n\n 
URL:https://aspiringyouth.org/event/free-shirt-printing-workshop-with-there-space/
LOCATION:There Space\, 1518 E Van Buren St.\, Phoenix\, AZ\, 85006\, United States
CATEGORIES:FREE EVENT,Teen Events
ATTACH;FMTTYPE=image/jpeg:https://aspiringyouth.org/wp-content/uploads/2025/05/AYA25-ShirtPrintingEvent-Social.jpg
ORGANIZER;CN="Aspiring Youth":MAILTO:info@aspiringyouth.org
END:VEVENT
END:VCALENDAR